BEGIN:VCALENDAR
VERSION:2.0
PRODID:-//Ceuta Open Future - ECPv6.13.0//NONSGML v1.0//EN
CALSCALE:GREGORIAN
METHOD:PUBLISH
X-ORIGINAL-URL:https://ceuta.openfuture.org
X-WR-CALDESC:Eventos para Ceuta Open Future
REFRESH-INTERVAL;VALUE=DURATION:PT1H
X-Robots-Tag:noindex
X-PUBLISHED-TTL:PT1H
BEGIN:VTIMEZONE
TZID:Europe/Paris
BEGIN:DAYLIGHT
TZOFFSETFROM:+0100
TZOFFSETTO:+0200
TZNAME:CEST
DTSTART:20240331T010000
END:DAYLIGHT
BEGIN:STANDARD
TZOFFSETFROM:+0200
TZOFFSETTO:+0100
TZNAME:CET
DTSTART:20241027T010000
END:STANDARD
END:VTIMEZONE
BEGIN:VEVENT
DTSTART;TZID=Europe/Paris:20240219T173000
DTEND;TZID=Europe/Paris:20240219T193000
DTSTAMP:20260426T012328
CREATED:20240213T122959Z
LAST-MODIFIED:20241108T132026Z
UID:3187-1708363800-1708371000@ceuta.openfuture.org
SUMMARY:Emprender paso a paso: validar tu idea o proyecto
DESCRIPTION:En Ceuta Open Future lanzamos nuestra octava convocatoria para ideas y proyectos emprendedores de base tecnológica\, y con ella una serie de talleres que te ayudarán a darle forma a tu propuesta. El primero será este lunes 19 de febrero a las 17:30 con Carlos Ojeda\, mentor de El Ángulo\, y se centrará en uno de los primeros pasos que debe dar cualquier proyecto emprendedor: la fase de validación basándonos en la metodología Lean Startup. \n¿Qué validamos? ¿Cuándo lo hacemos? ¿Cómo? Son algunas de las preguntas de las que partimos y que se abordarán durante el taller para que\, al terminar\, puedas aplicar todo lo aprendido a tu proyecto emprendedor \n  \n¡Apúntate! \n 
URL:https://ceuta.openfuture.org/eventos/emprender-paso-a-paso-validar-tu-idea-o-proyecto/
LOCATION:Ceuta Open Future – El Ángulo\, Av. San Francisco Javier\, Ceuta\, Ceuta\, 51011\, España
CATEGORIES:Programa Startups
ATTACH;FMTTYPE=image/png:https://ceuta.openfuture.org/wp-content/uploads/2024/02/20240212-COF004-EVENTO-1080x1080px.png
ORGANIZER;CN="Ceuta Open Future":MAILTO:ceuta@openfuture.org
END:VEVENT
BEGIN:VEVENT
DTSTART;VALUE=DATE:20240226
DTEND;VALUE=DATE:20240228
DTSTAMP:20260426T012328
CREATED:20240213T121804Z
LAST-MODIFIED:20241108T132250Z
UID:3182-1708905600-1709078399@ceuta.openfuture.org
SUMMARY:VIII Open Day El Ángulo
DESCRIPTION:Los próximos 26 y 27 de febrero celebramos un nuevo Open Day en El Ángulo. Durante el mismo\, los emprendedores que lo deseen tendrán la oportunidad de conocer en qué consiste Ceuta Open Future y su metodología de aceleración. \nAdemás\, podrán disfrutar de una primera sesión presencial y gratuita por parte de algunos de los mentores del equipo de Ceuta Open Future que les servirá para obtener un primer feedback de su proyecto y experimentar ese acompañamiento personalizado que reciben todas las startups que ya se encuentran dentro del programa de aceleración. \n  \n¡Inscríbete! \n 
URL:https://ceuta.openfuture.org/eventos/viii-open-day-el-angulo/
LOCATION:Ceuta Open Future – El Ángulo\, Av. San Francisco Javier\, Ceuta\, Ceuta\, 51011\, España
CATEGORIES:Programa Startups
ATTACH;FMTTYPE=image/png:https://ceuta.openfuture.org/wp-content/uploads/2024/02/20240213-COF004-OPEN-DAY-1080x1080px-v2.png
ORGANIZER;CN="Ceuta Open Future":MAILTO:ceuta@openfuture.org
END:VEVENT
END:VCALENDAR