BEGIN:VCALENDAR
VERSION:2.0
PRODID:-//Ceuta Open Future - ECPv6.13.0//NONSGML v1.0//EN
CALSCALE:GREGORIAN
METHOD:PUBLISH
X-WR-CALNAME:Ceuta Open Future
X-ORIGINAL-URL:https://ceuta.openfuture.org
X-WR-CALDESC:Eventos para Ceuta Open Future
REFRESH-INTERVAL;VALUE=DURATION:PT1H
X-Robots-Tag:noindex
X-PUBLISHED-TTL:PT1H
BEGIN:VTIMEZONE
TZID:Europe/Paris
BEGIN:DAYLIGHT
TZOFFSETFROM:+0100
TZOFFSETTO:+0200
TZNAME:CEST
DTSTART:20240331T010000
END:DAYLIGHT
BEGIN:STANDARD
TZOFFSETFROM:+0200
TZOFFSETTO:+0100
TZNAME:CET
DTSTART:20241027T010000
END:STANDARD
END:VTIMEZONE
BEGIN:VEVENT
DTSTART;TZID=Europe/Paris:20240305T180000
DTEND;TZID=Europe/Paris:20240305T193000
DTSTAMP:20260425T233641
CREATED:20240229T114116Z
LAST-MODIFIED:20241108T132326Z
UID:3209-1709661600-1709667000@ceuta.openfuture.org
SUMMARY:Mesa Redonda | Diálogos para emprender
DESCRIPTION:Compartir y comparar las experiencias emprendedores es una de las mejores formas de seguir aprendiendo para aplicar tanto a tu proyecto actual como a futuros retos. Por eso\, desde Ceuta Open Future organizamos una mesa redonda titulada ‘Diálogos para emprender: experiencias reales en Ceuta’ que se celebrará en El Ángulo\, en las Murallas Reales\, este martes 5 de marzo a las 18:00. \nAntonio Barranco\, CEO de Helity\, Rafael Bentolila\, CEO de Kikoto y Ana Marfil\, Freelance en Meraki Marketing\, serán los tres invitados a esta mesa redonda para compartir sus experiencias y aprendizajes. El carácter participativo del evento permitirá generar un diálogo también con los asistentes el evento. \nSi quieres escuchar y aprender de las experiencias de otros emprendedores\, recuerda inscribirte y reservar tu plaza lo antes posible aquí. ¡Te esperamos en El Ángulo! \n¡Inscríbete! \n 
URL:https://ceuta.openfuture.org/eventos/mesa-redonda-dialogos-para-emprender/
LOCATION:Ceuta Open Future – El Ángulo\, Av. San Francisco Javier\, Ceuta\, Ceuta\, 51011\, España
CATEGORIES:Programa Startups
ATTACH;FMTTYPE=image/png:https://ceuta.openfuture.org/wp-content/uploads/2024/02/20240229-COF004-MESA-REDONDA-1080x1080px.png
ORGANIZER;CN="Ceuta Open Future":MAILTO:ceuta@openfuture.org
END:VEVENT
BEGIN:VEVENT
DTSTART;VALUE=DATE:20240312
DTEND;VALUE=DATE:20240313
DTSTAMP:20260425T233641
CREATED:20240306T114439Z
LAST-MODIFIED:20241108T124538Z
UID:3231-1710201600-1710287999@ceuta.openfuture.org
SUMMARY:Cómo presentar tu proyecto en 10 minutos
DESCRIPTION:¡Prepárate para impactar con tu proyecto en solo 10 minutos! Te invitamos al taller «Cómo presentar tu proyecto en 10 minutos»\, donde nuestra mentora y experta en comunicación\, Sara González\, compartirá sus conocimientos y consejos clave para perfeccionar tu pitch. \nEste taller está especialmente diseñado para startups que desean destacar ante el comité de selección. Si tu proyecto es preseleccionado en la convocatoria y deseas impresionar para entrar a formar parte del programa de aceleración\, ¡este evento es para ti! \nAprenderás técnicas efectivas para estructurar y transmitir tu proyecto de manera clara\, concisa y persuasiva en tan solo 10 minutos. Sara González te guiará a través de los aspectos cruciales de una presentación exitosa\, desde la introducción impactante hasta el cierre memorable. \nNo te pierdas esta oportunidad de adquirir habilidades de presentación que te ayudarán a destacar en el competitivo mundo empresarial. \n¡Te esperamos! \n¡Apúntate!
URL:https://ceuta.openfuture.org/eventos/como-presentar-tu-proyecto-en-10-minutos/
LOCATION:Ceuta Open Future – El Ángulo\, Av. San Francisco Javier\, Ceuta\, Ceuta\, 51011\, España
CATEGORIES:Programa Startups
ATTACH;FMTTYPE=image/jpeg:https://ceuta.openfuture.org/wp-content/uploads/2024/03/Charla-Sara.jpg
ORGANIZER;CN="Ceuta Open Future":MAILTO:ceuta@openfuture.org
END:VEVENT
END:VCALENDAR