BEGIN:VCALENDAR
VERSION:2.0
PRODID:-//Ceuta Open Future - ECPv6.13.0//NONSGML v1.0//EN
CALSCALE:GREGORIAN
METHOD:PUBLISH
X-WR-CALNAME:Ceuta Open Future
X-ORIGINAL-URL:https://ceuta.openfuture.org
X-WR-CALDESC:Eventos para Ceuta Open Future
REFRESH-INTERVAL;VALUE=DURATION:PT1H
X-Robots-Tag:noindex
X-PUBLISHED-TTL:PT1H
BEGIN:VTIMEZONE
TZID:Europe/Paris
BEGIN:DAYLIGHT
TZOFFSETFROM:+0100
TZOFFSETTO:+0200
TZNAME:CEST
DTSTART:20240331T010000
END:DAYLIGHT
BEGIN:STANDARD
TZOFFSETFROM:+0200
TZOFFSETTO:+0100
TZNAME:CET
DTSTART:20241027T010000
END:STANDARD
END:VTIMEZONE
BEGIN:VEVENT
DTSTART;TZID=Europe/Paris:20240918T170000
DTEND;TZID=Europe/Paris:20240918T180000
DTSTAMP:20260425T131204
CREATED:20240912T102429Z
LAST-MODIFIED:20241108T125241Z
UID:3911-1726678800-1726682400@ceuta.openfuture.org
SUMMARY:De la idea a la acción: emprender y escalar tu startup
DESCRIPTION:Uno de los primeros desafíos a los que se enfrenta cualquier emprendedor es: ¿por dónde empiezo? Una pregunta que se repite desde que surge la idea en cada paso del desarrollo del proyecto\, en cada nueva etapa\, y todavía\, en el proceso de crecimiento o escalado. \nLa respuesta a esa pregunta exige perder el miedo\, lanzarse e intentarlo. Pero también\, planificación y aprendizaje constante. Por eso\, este miércoles 18 de septiembre contaremos con uno de los mentores de Ceuta Open Future\, Talal Benjelloun\, en El Ángulo. En una charla\, que arrancará a las 17:00\, compartirá todos esos aprendizajes adquiridos a lo largo de sus diferentes proyectos emprendedores. \nSi tienes una idea\, una startup en crecimiento o\, simplemente\, quieres saber más sobre emprendimiento ¡esta charla es para ti! Recuerda que la asistencia\, como siempre\, es totalmente gratuita pero debes inscribirte previamente. ¡Te esperamos! \n¡Apúntate!
URL:https://ceuta.openfuture.org/eventos/de-la-idea-a-la-accion-emprender-y-escalar-tu-startup/
LOCATION:Ceuta Open Future – El Ángulo\, Av. San Francisco Javier\, Ceuta\, Ceuta\, 51011\, España
CATEGORIES:Programa Startups
ATTACH;FMTTYPE=image/jpeg:https://ceuta.openfuture.org/wp-content/uploads/2024/09/20240912-COF004-EVENTO-800x418px-web-v2.jpg
ORGANIZER;CN="Ceuta Open Future":MAILTO:ceuta@openfuture.org
END:VEVENT
END:VCALENDAR