BEGIN:VCALENDAR
VERSION:2.0
PRODID:-//Ceuta Open Future - ECPv6.13.0//NONSGML v1.0//EN
CALSCALE:GREGORIAN
METHOD:PUBLISH
X-ORIGINAL-URL:https://ceuta.openfuture.org
X-WR-CALDESC:Eventos para Ceuta Open Future
REFRESH-INTERVAL;VALUE=DURATION:PT1H
X-Robots-Tag:noindex
X-PUBLISHED-TTL:PT1H
BEGIN:VTIMEZONE
TZID:Europe/Paris
BEGIN:DAYLIGHT
TZOFFSETFROM:+0100
TZOFFSETTO:+0200
TZNAME:CEST
DTSTART:20250330T010000
END:DAYLIGHT
BEGIN:STANDARD
TZOFFSETFROM:+0200
TZOFFSETTO:+0100
TZNAME:CET
DTSTART:20251026T010000
END:STANDARD
END:VTIMEZONE
BEGIN:VEVENT
DTSTART;TZID=Europe/Paris:20250218T170000
DTEND;TZID=Europe/Paris:20250218T183000
DTSTAMP:20260425T051402
CREATED:20250212T143709Z
LAST-MODIFIED:20250219T111740Z
UID:4160-1739898000-1739903400@ceuta.openfuture.org
SUMMARY:Mesa redonda: Qué no hacer al emprender
DESCRIPTION:Superar tus primeras experiencias emprendedoras es un proceso de aprendizaje constante. Cada paso dado deja lecciones valiosas que pueden marcar la diferencia en futuros proyectos. Dos preguntas siempre surgen después de haber lanzado una startup: ¿qué repetirías sin dudarlo? y ¿qué evitarías desde el principio si volvieras a empezar? Pero ¿y si alguien que ya ha pasado por ese camino pudiera compartir contigo esos aprendizajes antes de que te enfrentes a los mismos desafíos? \nEse es precisamente el objetivo de esta mesa redonda\, en la que tres emprendedores que han sido parte del ecosistema de Ceuta Open Future compartirán sus experiencias y aprendizajes clave. A través de sus historias reales\, conocerás no solo los aciertos que les han impulsado a seguir creciendo\, sino también los errores que les han hecho evolucionar y mejorar en sus siguientes proyectos. \nEn esta sesión participativa contaremos con Diego Serrano\, cofundador de Rovle; Celia Oliva\, cofundadora de Dindog; y Anuar Mohamed\, cofundador de Virtulab. Cada uno de ellos ha enfrentado retos únicos en su camino emprendedor y ha sabido transformar esos desafíos en oportunidades para construir nuevas iniciativas con mayor solidez. \nAdemás\, la mesa redonda no será solo un espacio para escuchar\, sino también para participar. Queremos que los asistentes aporten sus propias experiencias\, hagan preguntas y generen un diálogo enriquecedor que nos ayude a todos a crecer en el ecosistema emprendedor. \nSi estás iniciando tu camino como emprendedor o estás pensando en lanzar tu primer proyecto\, este encuentro te dará una visión práctica y realista de lo que implica crear y hacer crecer una startup. Aprende de quienes ya han recorrido este camino y prepárate para afrontar tu propia aventura con mayor confianza. \n\n¡Apúntate!
URL:https://ceuta.openfuture.org/eventos/mesa-redonda-que-no-hacer-al-emprender/
LOCATION:Ceuta Open Future – El Ángulo\, Av. San Francisco Javier\, Ceuta\, Ceuta\, 51011\, España
CATEGORIES:Programa Startups
ATTACH;FMTTYPE=image/jpeg:https://ceuta.openfuture.org/wp-content/uploads/2025/02/20250212-COF006-EVENTOS-WEB-1.jpg
ORGANIZER;CN="Ceuta Open Future":MAILTO:ceuta@openfuture.org
END:VEVENT
END:VCALENDAR